BEGIN:VCALENDAR
VERSION:2.0
PRODID:-//Pingstliljan - ECPv4.9.4//NONSGML v1.0//EN
CALSCALE:GREGORIAN
METHOD:PUBLISH
X-WR-CALNAME:Pingstliljan
X-ORIGINAL-URL:https://pingstliljan.nu
X-WR-CALDESC:Händelser för Pingstliljan
BEGIN:VTIMEZONE
TZID:"Europe/Stockholm"
BEGIN:DAYLIGHT
TZOFFSETFROM:+0100
TZOFFSETTO:+0200
TZNAME:CEST
DTSTART:20210328T010000
END:DAYLIGHT
BEGIN:STANDARD
TZOFFSETFROM:+0200
TZOFFSETTO:+0100
TZNAME:CET
DTSTART:20211031T010000
END:STANDARD
END:VTIMEZONE
BEGIN:VEVENT
DTSTART;VALUE=DATE:20210405
DTEND;VALUE=DATE:20210410
DTSTAMP:20260420T135354
CREATED:20210322T144159Z
LAST-MODIFIED:20210322T144159Z
UID:557-1617580800-1618012799@pingstliljan.nu
SUMMARY:Påsklov
DESCRIPTION:Alla 15-timmars avgiftsfria barn är lediga från förskolan! \n
URL:https://pingstliljan.nu/event/pasklov/
END:VEVENT
END:VCALENDAR