BEGIN:VCALENDAR
VERSION:2.0
PRODID:-//Pingstliljan - ECPv4.9.4//NONSGML v1.0//EN
CALSCALE:GREGORIAN
METHOD:PUBLISH
X-WR-CALNAME:Pingstliljan
X-ORIGINAL-URL:https://pingstliljan.nu
X-WR-CALDESC:Händelser för Pingstliljan
BEGIN:VTIMEZONE
TZID:"Europe/Stockholm"
BEGIN:DAYLIGHT
TZOFFSETFROM:+0100
TZOFFSETTO:+0200
TZNAME:CEST
DTSTART:20210328T010000
END:DAYLIGHT
BEGIN:STANDARD
TZOFFSETFROM:+0200
TZOFFSETTO:+0100
TZNAME:CET
DTSTART:20211031T010000
END:STANDARD
END:VTIMEZONE
BEGIN:VEVENT
DTSTART;VALUE=DATE:20210503
DTEND;VALUE=DATE:20210508
DTSTAMP:20260420T091946
CREATED:20210504T112828Z
LAST-MODIFIED:20210504T112828Z
UID:615-1620000000-1620431999@pingstliljan.nu
SUMMARY:Hälsovecka
DESCRIPTION:Denna veckan har vi så kallad hälsovecka. Vi passar på att röra extra mycket på oss\, äta mycket frukt och provar nya spännande maträtter. \nPå Torsdag belyser vi också Barnsäkerhetens dag genom att genomföra en baklängesmarsch! \n
URL:https://pingstliljan.nu/event/halsovecka/
END:VEVENT
END:VCALENDAR