BEGIN:VCALENDAR
VERSION:2.0
PRODID:-//Pingstliljan - ECPv4.9.4//NONSGML v1.0//EN
CALSCALE:GREGORIAN
METHOD:PUBLISH
X-WR-CALNAME:Pingstliljan
X-ORIGINAL-URL:https://pingstliljan.nu
X-WR-CALDESC:Händelser för Pingstliljan
BEGIN:VTIMEZONE
TZID:"Europe/Stockholm"
BEGIN:DAYLIGHT
TZOFFSETFROM:+0100
TZOFFSETTO:+0200
TZNAME:CEST
DTSTART:20210328T010000
END:DAYLIGHT
BEGIN:STANDARD
TZOFFSETFROM:+0200
TZOFFSETTO:+0100
TZNAME:CET
DTSTART:20211031T010000
END:STANDARD
END:VTIMEZONE
BEGIN:VEVENT
DTSTART;VALUE=DATE:20210405
DTEND;VALUE=DATE:20210406
DTSTAMP:20260420T105234
CREATED:20210322T145220Z
LAST-MODIFIED:20210322T145220Z
UID:565-1617580800-1617667199@pingstliljan.nu
SUMMARY:Förskolan är stängd!
DESCRIPTION:Idag är det Annandag påsk\, förskolan är stängd! \n
URL:https://pingstliljan.nu/event/forskolan-ar-stangd-3/
END:VEVENT
END:VCALENDAR